BEGIN:VCALENDAR
VERSION:2.0
PRODID:-//Asamblea Departamental de Santander - ECPv6.8.3//NONSGML v1.0//EN
CALSCALE:GREGORIAN
METHOD:PUBLISH
X-ORIGINAL-URL:https://asambleadesantander.gov.co
X-WR-CALDESC:Eventos para Asamblea Departamental de Santander
REFRESH-INTERVAL;VALUE=DURATION:PT1H
X-Robots-Tag:noindex
X-PUBLISHED-TTL:PT1H
BEGIN:VTIMEZONE
TZID:America/New_York
BEGIN:DAYLIGHT
TZOFFSETFROM:-0500
TZOFFSETTO:-0400
TZNAME:EDT
DTSTART:20250309T070000
END:DAYLIGHT
BEGIN:STANDARD
TZOFFSETFROM:-0400
TZOFFSETTO:-0500
TZNAME:EST
DTSTART:20251102T060000
END:STANDARD
END:VTIMEZONE
BEGIN:VEVENT
DTSTART;TZID=America/New_York:20250702T073000
DTEND;TZID=America/New_York:20250702T120000
DTSTAMP:20260420T090607
CREATED:20250701T141629Z
LAST-MODIFIED:20250702T230604Z
UID:10000075-1751441400-1751457600@asambleadesantander.gov.co
SUMMARY:Sesión Plenaria\, 02 de julio de 2025
DESCRIPTION:Se extiende la invitación a los santandereanos a participar de manera presencial o virtual  al Debate de Control Político por el Deporte en Santander este miércoles  02 de julio de 2025 a las 07:30 AM\, en el auditorio Luis Carlos Galán Sarmiento.
URL:https://asambleadesantander.gov.co/evento/sesion-plenaria-02-de-julio-de-2025/
LOCATION:Auditorio Luis Carlos Galán Sarmiento\, Calle 37 # 10-36\, Bucaramanga\, Santander\, Colombia
CATEGORIES:Control político,Debate
ATTACH;FMTTYPE=image/jpeg:https://asambleadesantander.gov.co/wp-content/uploads/2025/07/WhatsApp-Image-2025-07-01-at-09.12.37-scaled.jpeg
END:VEVENT
END:VCALENDAR