BEGIN:VCALENDAR
VERSION:2.0
PRODID:-//Asamblea Departamental de Santander - ECPv6.8.3//NONSGML v1.0//EN
CALSCALE:GREGORIAN
METHOD:PUBLISH
X-ORIGINAL-URL:https://asambleadesantander.gov.co
X-WR-CALDESC:Eventos para Asamblea Departamental de Santander
REFRESH-INTERVAL;VALUE=DURATION:PT1H
X-Robots-Tag:noindex
X-PUBLISHED-TTL:PT1H
BEGIN:VTIMEZONE
TZID:America/New_York
BEGIN:DAYLIGHT
TZOFFSETFROM:-0500
TZOFFSETTO:-0400
TZNAME:EDT
DTSTART:20250309T070000
END:DAYLIGHT
BEGIN:STANDARD
TZOFFSETFROM:-0400
TZOFFSETTO:-0500
TZNAME:EST
DTSTART:20251102T060000
END:STANDARD
END:VTIMEZONE
BEGIN:VEVENT
DTSTART;TZID=America/New_York:20251111T150000
DTEND;TZID=America/New_York:20251111T170000
DTSTAMP:20260422T085633
CREATED:20251107T191827Z
LAST-MODIFIED:20251107T191827Z
UID:10000149-1762873200-1762880400@asambleadesantander.gov.co
SUMMARY:Audiencia Pública\, 11 de noviembre de 2025
DESCRIPTION:Te invitamos a participar en la Audiencia Pública “Mitos y realidades del fracking (caracterización\, riesgos y oportunidades)”\, un espacio de diálogo para conocer los diferentes enfoques sobre este tema que impacta el desarrollo y el medio ambiente de nuestro departamento. 📅 La cita es el martes 11 de noviembre de 2025 a las 3:00 p.m. en el Auditorio Luis Carlos Galán Sarmiento de la Asamblea Departamental de Santander. 📝 El ingreso es con previo registro en el siguiente link: https://docs.google.com/forms/d/e/1FAIpQLScaTUxBzDL4A0_j9nEFCV1rGSc44JGbFbg4W4NI_41m6Oo9nw/viewform?usp=header
URL:https://asambleadesantander.gov.co/evento/audiencia-publica-11-de-noviembre-de-2025/
LOCATION:Auditorio Luis Carlos Galán Sarmiento\, Calle 37 # 10-36\, Bucaramanga\, Santander\, Colombia
CATEGORIES:Cultura,Participación ciudadana
ATTACH;FMTTYPE=image/jpeg:https://asambleadesantander.gov.co/wp-content/uploads/2025/11/SESION-PLENARIA-3-scaled.jpg
END:VEVENT
BEGIN:VEVENT
DTSTART;TZID=America/New_York:20251127T150000
DTEND;TZID=America/New_York:20251127T200000
DTSTAMP:20260422T085633
CREATED:20251126T151922Z
LAST-MODIFIED:20251127T022850Z
UID:10000162-1764255600-1764273600@asambleadesantander.gov.co
SUMMARY:Sesión Plenaria\, 27 de noviembre de 2025
DESCRIPTION:La Asamblea Departamental de Santander informa la modificación de citación para la sesión plenaria presencial en la que se socializará la afectación de la actualización del Plan de Manejo Integrado DRIM Serranía de los Yariguíes\, a solicitud del alcalde del municipio de San Vicente de Chucurí\, Dr. Óscar Sanmiguel. La sesión se realizará el jueves 27 de noviembre de 2025 a las 3:00 p. m. en el Auditorio Luis Carlos Galán Sarmiento.
URL:https://asambleadesantander.gov.co/evento/sesion-plenaria-27-de-noviembre-de-2025/
LOCATION:Auditorio Luis Carlos Galán Sarmiento\, Calle 37 # 10-36\, Bucaramanga\, Santander\, Colombia
CATEGORIES:Control político,Cultura,Participación ciudadana,Sesión ordinaria
ATTACH;FMTTYPE=image/jpeg:https://asambleadesantander.gov.co/wp-content/uploads/2025/11/SESION-PLENARIA-3-scaled.jpeg
END:VEVENT
BEGIN:VEVENT
DTSTART;TZID=America/New_York:20251128T060000
DTEND;TZID=America/New_York:20251128T120000
DTSTAMP:20260422T085633
CREATED:20251127T023554Z
LAST-MODIFIED:20251127T023617Z
UID:10000164-1764309600-1764331200@asambleadesantander.gov.co
SUMMARY:Sesión Plenaria\, 28 de noviembre de 2025
DESCRIPTION:La Asamblea Departamental de Santander invita a la sesión plenaria presencial en la que se realizará la citación a entrevista de los aspirantes al cargo de Secretario de la Asamblea para el periodo constitucional del 1 de enero al 31 de diciembre de 2026\, y se llevará a cabo el segundo debate del Proyecto de Ordenanza N.º 085 del 29 de octubre de 2025\, mediante el cual se autoriza al Gobernador de Santander a enajenar bienes muebles inservibles dados de baja por la Secretaría Administrativa\, conforme a las resoluciones y actas mencionadas. La sesión se realizará el viernes 28 de noviembre de 2025 a las 6:00 a. m. en el Auditorio Luis Carlos Galán Sarmiento.
URL:https://asambleadesantander.gov.co/evento/sesion-plenaria-28-de-noviembre-de-2025/
LOCATION:Auditorio Luis Carlos Galán Sarmiento\, Calle 37 # 10-36\, Bucaramanga\, Santander\, Colombia
CATEGORIES:Control político,Debate,Participación ciudadana,Sesión ordinaria
ATTACH;FMTTYPE=image/jpeg:https://asambleadesantander.gov.co/wp-content/uploads/2025/11/SESION-PLENARIA-4-scaled.jpeg
END:VEVENT
BEGIN:VEVENT
DTSTART;TZID=America/New_York:20251129T180000
DTEND;TZID=America/New_York:20251129T233000
DTSTAMP:20260422T085633
CREATED:20251128T130321Z
LAST-MODIFIED:20251128T211906Z
UID:10000167-1764439200-1764459000@asambleadesantander.gov.co
SUMMARY:Sesión Plenaria\, 29 de noviembre de 2025
DESCRIPTION:La Asamblea Departamental de Santander informa la modificación de citación para la sesión plenaria presencial en la que se realizará la elección y posesión del Secretario General para el periodo comprendido entre el 1 de enero y el 31 de diciembre de 2026\, y el estudio en segundo debate de los proyectos de ordenanza 088\, 092 y 097 de 2025\, relacionados con biodigestores rurales\, el manejo de recursos del personal beneficiario del sector salud y la adición de recursos al presupuesto departamental; la sesión se llevará a cabo el sábado 29 de noviembre de 2025 a las 6:00 p.m. en el Auditorio Luis Carlos Galán Sarmiento.
URL:https://asambleadesantander.gov.co/evento/sesion-plenaria-29-de-noviembre-de-2025/
LOCATION:Auditorio Luis Carlos Galán Sarmiento\, Calle 37 # 10-36\, Bucaramanga\, Santander\, Colombia
CATEGORIES:Cultura,Debate,Participación ciudadana,Segundo debate,Sesión ordinaria
ATTACH;FMTTYPE=image/jpeg:https://asambleadesantander.gov.co/wp-content/uploads/2025/11/SESION-PLENARIA-6-scaled.jpeg
END:VEVENT
END:VCALENDAR