BEGIN:VCALENDAR
VERSION:2.0
PRODID:-//Asamblea Departamental de Santander - ECPv6.8.3//NONSGML v1.0//EN
CALSCALE:GREGORIAN
METHOD:PUBLISH
X-WR-CALNAME:Asamblea Departamental de Santander
X-ORIGINAL-URL:https://asambleadesantander.gov.co
X-WR-CALDESC:Eventos para Asamblea Departamental de Santander
REFRESH-INTERVAL;VALUE=DURATION:PT1H
X-Robots-Tag:noindex
X-PUBLISHED-TTL:PT1H
BEGIN:VTIMEZONE
TZID:America/New_York
BEGIN:DAYLIGHT
TZOFFSETFROM:-0500
TZOFFSETTO:-0400
TZNAME:EDT
DTSTART:20250309T070000
END:DAYLIGHT
BEGIN:STANDARD
TZOFFSETFROM:-0400
TZOFFSETTO:-0500
TZNAME:EST
DTSTART:20251102T060000
END:STANDARD
END:VTIMEZONE
BEGIN:VEVENT
DTSTART;TZID=America/New_York:20250710T100000
DTEND;TZID=America/New_York:20250710T130000
DTSTAMP:20260424T101636
CREATED:20250710T020316Z
LAST-MODIFIED:20250710T020316Z
UID:10000080-1752141600-1752152400@asambleadesantander.gov.co
SUMMARY:Sesión Plenaria\, 10 de julio de 2025
DESCRIPTION:Se cita a sesión plenaria que se realizará de manera presencial para el estudio en segundo debate del Proyecto de Ordenanza Nº 039 de 2025\, en el auditorio Luis Carlos Galán Sarmiento\, este jueves 10 de julio\,  a las 10:00 de la mañana.
URL:https://asambleadesantander.gov.co/evento/sesion-plenaria-10-de-julio-de-2025/
LOCATION:Auditorio Luis Carlos Galán Sarmiento\, Calle 37 # 10-36\, Bucaramanga\, Santander\, Colombia
CATEGORIES:Debate,Segundo debate,Sesión ordinaria
ATTACH;FMTTYPE=image/jpeg:https://asambleadesantander.gov.co/wp-content/uploads/2025/07/WhatsApp-Image-2025-07-09-at-11.24.33-scaled.jpeg
END:VEVENT
END:VCALENDAR