BEGIN:VCALENDAR
VERSION:2.0
PRODID:-//Asamblea Departamental de Santander - ECPv6.8.3//NONSGML v1.0//EN
CALSCALE:GREGORIAN
METHOD:PUBLISH
X-ORIGINAL-URL:https://asambleadesantander.gov.co
X-WR-CALDESC:Eventos para Asamblea Departamental de Santander
REFRESH-INTERVAL;VALUE=DURATION:PT1H
X-Robots-Tag:noindex
X-PUBLISHED-TTL:PT1H
BEGIN:VTIMEZONE
TZID:America/New_York
BEGIN:DAYLIGHT
TZOFFSETFROM:-0500
TZOFFSETTO:-0400
TZNAME:EDT
DTSTART:20250309T070000
END:DAYLIGHT
BEGIN:STANDARD
TZOFFSETFROM:-0400
TZOFFSETTO:-0500
TZNAME:EST
DTSTART:20251102T060000
END:STANDARD
END:VTIMEZONE
BEGIN:VEVENT
DTSTART;TZID=America/New_York:20250724T070000
DTEND;TZID=America/New_York:20250724T120000
DTSTAMP:20260424T101922
CREATED:20250723T131620Z
LAST-MODIFIED:20250723T131620Z
UID:10000086-1753340400-1753358400@asambleadesantander.gov.co
SUMMARY:Sesión Plenaria\, 24 de julio de 2025
DESCRIPTION:Se cita a sesión plenaria que se realizará de manera presencial para el estudio en segundo debate del Proyecto de Ordenanza Nº 040 de 2025\, en el auditorio Luis Carlos Galán Sarmiento\, este jueves 24 de julio\,  a las 07:00 de la mañana.
URL:https://asambleadesantander.gov.co/evento/sesion-plenaria-24-de-julio-de-2025/
LOCATION:Auditorio Luis Carlos Galán Sarmiento\, Calle 37 # 10-36\, Bucaramanga\, Santander\, Colombia
CATEGORIES:Debate,Segundo debate,Sesión ordinaria
ATTACH;FMTTYPE=image/jpeg:https://asambleadesantander.gov.co/wp-content/uploads/2025/07/WhatsApp-Image-2025-07-23-at-08.06.25-scaled.jpeg
END:VEVENT
END:VCALENDAR