BEGIN:VCALENDAR
VERSION:2.0
PRODID:-//Asamblea Departamental de Santander - ECPv6.8.3//NONSGML v1.0//EN
CALSCALE:GREGORIAN
METHOD:PUBLISH
X-WR-CALNAME:Asamblea Departamental de Santander
X-ORIGINAL-URL:https://asambleadesantander.gov.co
X-WR-CALDESC:Eventos para Asamblea Departamental de Santander
REFRESH-INTERVAL;VALUE=DURATION:PT1H
X-Robots-Tag:noindex
X-PUBLISHED-TTL:PT1H
BEGIN:VTIMEZONE
TZID:America/New_York
BEGIN:DAYLIGHT
TZOFFSETFROM:-0500
TZOFFSETTO:-0400
TZNAME:EDT
DTSTART:20250309T070000
END:DAYLIGHT
BEGIN:STANDARD
TZOFFSETFROM:-0400
TZOFFSETTO:-0500
TZNAME:EST
DTSTART:20251102T060000
END:STANDARD
END:VTIMEZONE
BEGIN:VEVENT
DTSTART;TZID=America/New_York:20251023T170000
DTEND;TZID=America/New_York:20251023T180000
DTSTAMP:20260424T053509
CREATED:20251022T204050Z
LAST-MODIFIED:20251022T204050Z
UID:10000139-1761238800-1761242400@asambleadesantander.gov.co
SUMMARY:Sesión Plenaria\, 23 de octubre de 2025
DESCRIPTION:La Asamblea Departamental de Santander invita a participar en la sesión plenaria presencial para el estudio en segundo debate del Proyecto de Ordenanza N.º 079 de 2025\, mediante el cual se adicionan recursos al Presupuesto General de Ingresos y Gastos del Departamento de Santander\, vigencia fiscal 2025\, y se efectúan traslados presupuestales. La sesión se realizará el jueves 23 de octubre a las 5:00 p.m. en el Auditorio Luis Carlos Galán Sarmiento. Te esperamos para seguir fortaleciendo el desarrollo financiero y social de nuestro departamento.
URL:https://asambleadesantander.gov.co/evento/sesion-plenaria-23-de-octubre-de-2025/
LOCATION:Auditorio Luis Carlos Galán Sarmiento\, Calle 37 # 10-36\, Bucaramanga\, Santander\, Colombia
CATEGORIES:Control político,Segundo debate,Sesión ordinaria
ATTACH;FMTTYPE=image/jpeg:https://asambleadesantander.gov.co/wp-content/uploads/2025/10/SESION-PLENARIA-9-scaled.jpg
END:VEVENT
END:VCALENDAR