BEGIN:VCALENDAR
VERSION:2.0
PRODID:-//Asamblea Departamental de Santander - ECPv6.8.3//NONSGML v1.0//EN
CALSCALE:GREGORIAN
METHOD:PUBLISH
X-ORIGINAL-URL:https://asambleadesantander.gov.co
X-WR-CALDESC:Eventos para Asamblea Departamental de Santander
REFRESH-INTERVAL;VALUE=DURATION:PT1H
X-Robots-Tag:noindex
X-PUBLISHED-TTL:PT1H
BEGIN:VTIMEZONE
TZID:America/New_York
BEGIN:DAYLIGHT
TZOFFSETFROM:-0500
TZOFFSETTO:-0400
TZNAME:EDT
DTSTART:20250309T070000
END:DAYLIGHT
BEGIN:STANDARD
TZOFFSETFROM:-0400
TZOFFSETTO:-0500
TZNAME:EST
DTSTART:20251102T060000
END:STANDARD
END:VTIMEZONE
BEGIN:VEVENT
DTSTART;TZID=America/New_York:20251104T080000
DTEND;TZID=America/New_York:20251104T160000
DTSTAMP:20260424T041548
CREATED:20251101T155248Z
LAST-MODIFIED:20251101T155248Z
UID:10000145-1762243200-1762272000@asambleadesantander.gov.co
SUMMARY:Sesión Plenaria\, 04 de noviembre de 2025
DESCRIPTION:La Asamblea Departamental de Santander invita a toda la ciudadanía a participar de la sesión plenaria presencial en la que se realizará el estudio en segundo debate del Proyecto de Ordenanza N.º 072 de 2025\, por medio del cual se fija el presupuesto general de ingresos y gastos del Departamento de Santander para la vigencia fiscal del 1.º de enero al 31 de diciembre de 2026 y se dictan otras disposiciones. La sesión se llevará a cabo el martes 4 de noviembre a las 8:00 a. m.en el Auditorio Luis Carlos Galán Sarmiento.
URL:https://asambleadesantander.gov.co/evento/sesion-plenaria-04-de-noviembre-de-2025/
LOCATION:Auditorio Luis Carlos Galán Sarmiento\, Calle 37 # 10-36\, Bucaramanga\, Santander\, Colombia
CATEGORIES:Debate,Segundo debate,Sesión ordinaria
ATTACH;FMTTYPE=image/jpeg:https://asambleadesantander.gov.co/wp-content/uploads/2025/11/SESION-PLENARIA-scaled.jpg
END:VEVENT
END:VCALENDAR