BEGIN:VCALENDAR
VERSION:2.0
PRODID:-//Asamblea Departamental de Santander - ECPv6.8.3//NONSGML v1.0//EN
CALSCALE:GREGORIAN
METHOD:PUBLISH
X-WR-CALNAME:Asamblea Departamental de Santander
X-ORIGINAL-URL:https://asambleadesantander.gov.co
X-WR-CALDESC:Eventos para Asamblea Departamental de Santander
REFRESH-INTERVAL;VALUE=DURATION:PT1H
X-Robots-Tag:noindex
X-PUBLISHED-TTL:PT1H
BEGIN:VTIMEZONE
TZID:America/New_York
BEGIN:DAYLIGHT
TZOFFSETFROM:-0500
TZOFFSETTO:-0400
TZNAME:EDT
DTSTART:20250309T070000
END:DAYLIGHT
BEGIN:STANDARD
TZOFFSETFROM:-0400
TZOFFSETTO:-0500
TZNAME:EST
DTSTART:20251102T060000
END:STANDARD
END:VTIMEZONE
BEGIN:VEVENT
DTSTART;TZID=America/New_York:20251113T150000
DTEND;TZID=America/New_York:20251113T180000
DTSTAMP:20260422T115346
CREATED:20251112T200601Z
LAST-MODIFIED:20251112T200601Z
UID:10000150-1763046000-1763056800@asambleadesantander.gov.co
SUMMARY:Sesión Plenaria\, 13 de noviembre de 2025
DESCRIPTION:La Asamblea Departamental de Santander invita a la Sesión Plenaria Presencial en la que se realizará el estudio en segundo debate del Proyecto de Ordenanza N.º 083 de 2025\, por medio del cual se adicionan recursos al Presupuesto General de Ingresos y Gastos del Departamento de Santander\, vigencia fiscal 2025\, establecido mediante Ordenanza N.º 033 de 2024. 🗓 Jueves\, 13 de noviembre de 2025 ⏰ 3:00 p.m.
URL:https://asambleadesantander.gov.co/evento/sesion-plenaria-13-de-noviembre-de-2025/
LOCATION:Auditorio Luis Carlos Galán Sarmiento\, Calle 37 # 10-36\, Bucaramanga\, Santander\, Colombia
CATEGORIES:Segundo debate,Sesión ordinaria
ATTACH;FMTTYPE=image/jpeg:https://asambleadesantander.gov.co/wp-content/uploads/2025/11/SESION-PLENARIA-4-scaled.jpg
END:VEVENT
END:VCALENDAR