BEGIN:VCALENDAR
VERSION:2.0
PRODID:-//Asamblea Departamental de Santander - ECPv6.8.3//NONSGML v1.0//EN
CALSCALE:GREGORIAN
METHOD:PUBLISH
X-WR-CALNAME:Asamblea Departamental de Santander
X-ORIGINAL-URL:https://asambleadesantander.gov.co
X-WR-CALDESC:Eventos para Asamblea Departamental de Santander
REFRESH-INTERVAL;VALUE=DURATION:PT1H
X-Robots-Tag:noindex
X-PUBLISHED-TTL:PT1H
BEGIN:VTIMEZONE
TZID:America/New_York
BEGIN:DAYLIGHT
TZOFFSETFROM:-0500
TZOFFSETTO:-0400
TZNAME:EDT
DTSTART:20250309T070000
END:DAYLIGHT
BEGIN:STANDARD
TZOFFSETFROM:-0400
TZOFFSETTO:-0500
TZNAME:EST
DTSTART:20251102T060000
END:STANDARD
END:VTIMEZONE
BEGIN:VEVENT
DTSTART;TZID=America/New_York:20250908T070000
DTEND;TZID=America/New_York:20250908T120000
DTSTAMP:20260421T043437
CREATED:20250905T161516Z
LAST-MODIFIED:20250905T163504Z
UID:10000107-1757314800-1757332800@asambleadesantander.gov.co
SUMMARY:Sesión Plenaria\, 08 de septiembre de 2025
DESCRIPTION:La Asamblea Departamental de Santander invita a la comunidad a la Sesión Plenaria presencial que se realizará el lunes 08 de septiembre a las 7:00 a.m. en el Auditorio Luis Carlos Galán Sarmiento\, donde se estudiarán en segundo debate los Proyectos de Ordenanza N.º 057\, 051 y 055 de 2025\, orientados a la derogatoria de la Ordenanza 015 de 2025 y a la autorización para comprometer vigencias futuras ordinarias de la vigencia fiscal 2026.
URL:https://asambleadesantander.gov.co/evento/sesion-plenaria-08-de-septiembre-de-2025/
LOCATION:Auditorio Luis Carlos Galán Sarmiento\, Calle 37 # 10-36\, Bucaramanga\, Santander\, Colombia
CATEGORIES:Debate,Segundo debate,Sesión extraordinaria
ATTACH;FMTTYPE=image/jpeg:https://asambleadesantander.gov.co/wp-content/uploads/2025/09/ef85dd88-f923-4025-9637-0ccb29337157-scaled.jpeg
END:VEVENT
BEGIN:VEVENT
DTSTART;TZID=America/New_York:20250908T120000
DTEND;TZID=America/New_York:20250908T170000
DTSTAMP:20260421T043437
CREATED:20250905T172155Z
LAST-MODIFIED:20250905T172155Z
UID:10000108-1757332800-1757350800@asambleadesantander.gov.co
SUMMARY:Comisión Primera\, estudio en primer debate de los Proyectos de Ordenanza Nº 060 y 061 de 2025
DESCRIPTION:La Asamblea Departamental de Santander informa que la Comisión Primera de Hacienda y Crédito Público sesionará el lunes 08 de septiembre\, una vez finalizada la plenaria\, en el Auditorio Luis Carlos Galán Sarmiento\, para el estudio en primer debate de los Proyectos de Ordenanza N.º 060 y 061 de 2025\, orientados a la adición de recursos al presupuesto general del Departamento destinados a la Unipaz y al compromiso de vigencias futuras ordinarias de la vigencia fiscal 2026.
URL:https://asambleadesantander.gov.co/evento/comision-primera-estudio-en-primer-debate-de-los-proyectos-de-ordenanza-no-060-y-061-de-2025/
LOCATION:Auditorio Luis Carlos Galán Sarmiento\, Calle 37 # 10-36\, Bucaramanga\, Santander\, Colombia
CATEGORIES:Debate,Sesión extraordinaria
ATTACH;FMTTYPE=image/jpeg:https://asambleadesantander.gov.co/wp-content/uploads/2025/09/55365390-1ccd-44e8-a5b1-a6e269f4f6a2-scaled.jpeg
END:VEVENT
END:VCALENDAR