BEGIN:VCALENDAR
VERSION:2.0
PRODID:-//Asamblea Departamental de Santander - ECPv6.8.3//NONSGML v1.0//EN
CALSCALE:GREGORIAN
METHOD:PUBLISH
X-ORIGINAL-URL:https://asambleadesantander.gov.co
X-WR-CALDESC:Eventos para Asamblea Departamental de Santander
REFRESH-INTERVAL;VALUE=DURATION:PT1H
X-Robots-Tag:noindex
X-PUBLISHED-TTL:PT1H
BEGIN:VTIMEZONE
TZID:America/New_York
BEGIN:DAYLIGHT
TZOFFSETFROM:-0500
TZOFFSETTO:-0400
TZNAME:EDT
DTSTART:20240310T070000
END:DAYLIGHT
BEGIN:STANDARD
TZOFFSETFROM:-0400
TZOFFSETTO:-0500
TZNAME:EST
DTSTART:20241103T060000
END:STANDARD
END:VTIMEZONE
BEGIN:VEVENT
DTSTART;TZID=America/New_York:20241017T160000
DTEND;TZID=America/New_York:20241017T180000
DTSTAMP:20260421T015659
CREATED:20241016T170225Z
LAST-MODIFIED:20241016T170322Z
UID:10000005-1729180800-1729188000@asambleadesantander.gov.co
SUMMARY:Taller de marionetas
DESCRIPTION:¡Ven a nuestro Taller de Marionetas ! 🎭✨ \nEn este taller\, exploraremos la imaginación al recrear nuestros personajes favoritos de Halloween . Con la ayuda de colores \, formas y texturas \, nos sumergiremos en un mundo lleno de posibilidades donde la creatividad y la motricidad serán los verdaderos protagonistas. \n \nTallerista: Artista Felipe Escobar\n📅 Fecha: Jueves\, 17 de octubre 2024\n🕓 Hora: 4:00 PM\n📍 Lugar: Asamblea Departamental de Santander\, Calle 37 #9-38\, Barrio García Rovira\, Bucaramanga\n🌟 Inscríbete al WhatsApp 3175007984 o al correo ecote@syc.com.co \nNo te pierdas esta oportunidad de dar vida a tus ideas y disfrutar de una experiencia creativa inolvidable. ¡Te esperamos! 🌟
URL:https://asambleadesantander.gov.co/evento/taller-de-marionetas/
LOCATION:Casona Asamblea Departamental de Santander\, calle 37 # 9 -38\, Bucaramanga\, Santander\, Colombia
ATTACH;FMTTYPE=image/jpeg:https://asambleadesantander.gov.co/wp-content/uploads/2024/10/tallermarionetas.jpg
END:VEVENT
END:VCALENDAR